DSET ^../BASS_V0.Z_MON_1DEG.lnx.B201001
UNDEF -999.0
TITLE BASS OI blended analysis outputs
OPTIONS little_endian
XDEF 360 LINEAR 0.5 1.0
YDEF 180 LINEAR -89.5 1.0
ZDEF 01 LEVELS 1
TDEF 95 LINEAR JAN2010 1mo
VARS 2
sbass 1 99 ch1 OI blended SSS
ebass 1 99 ch2 OI blended SSS error
ENDVARS ** ** POC *** ** Dr. Pingping Xie ** NOAA Climate Prediction Center ** 5830 University Research Court, Room 3003 ** College Park, MD 20740 ** ** Tel. (301)683-3388 ** E-Mail : Pingping.Xie@noaa.gov ** ** NOTE **** ** This product is experimental in nature. Please report any problems or ** suspicions to Dr. Pingping Xie ** ** Due to the availability in the inputs, the analysis for the last ** five months is a 'Quick Look' product and will be refined later on ** with updated inputs in the coming months.
