DSET Pfeb2005
OPTIONS little_endian
UNDEF -9999
TITLE daily CMORPH estimates in mm/hr
XDEF 201 LINEAR 100.125 0.25
YDEF 322 LINEAR -40.125 0.25
ZDEF 01 LEVELS 1
TDEF 28 LINEAR 0z01feb2005 1dy
VARS 1
p 1 99 yyyyy (mm/hr)
ENDVARS
