DSET /your-data-set-path//CMORPH_025deg_%y4%m2%d2%h2
OPTIONS template yrev big_endian
UNDEF -9999.
TITLE Precipitation estimates
XDEF 1440 LINEAR 0.125 0.25
YDEF 480 LINEAR -59.875 0.25
ZDEF 01 LEVELS 1
TDEF 99999 LINEAR 00z21dec2002 30mn
VARS 1
cmorph 1 99 yyyyy combined microwave estimates 00-29min
ENDVARS ~
