dset ^oi-0.5deg-daily-precip-SA-y1979-mar2017
*
options little_endian
*
undef -999.
*
title CPC Unified daily Gauge Analysis
*
xdef 111 linear 275.25 0.5
*
ydef 141 linear -54.75 0.5
*
tdef 13970 linear jan1979 1dy
*
zdef 1 linear 1 1
*
vars 1
p 0 99 ** daily precipitation 1979-mar2017
ENDVARS
