dset ^prate.01.2023042000.daily.grb2
index ^prate.01.2023042000.daily.grb2.idx
undef 9.999E+20
title prate.01.2023042000.daily.grb2
* produced by g2ctl v0.1.0
* command line options: prate.01.2023042000.daily.grb2
* griddef=1:0:(1152 x 576):grid_template=40:winds(N/S): Gaussian grid: (1152 x 576) units 1e-06 input WE:NS output WE:SN number of latitudes between pole-equator=288 #points=663552 lat 89.761000 to -89.761000 lon 0.000000 to 359.687000 by 0.313000:wi
dtype grib2
* ny=576 nlat=576 lat0=-89.761000 lat1=89.761000
xdef 1152 linear 0.000000 0.312499565595135
ydef 576 levels -89.761 -89.451 -89.140 -88.828 -88.516 -88.204 -87.892 -87.580 -87.268 -86.955 -86.643 -86.331 -86.019 -85.707 -85.394 -85.082 -84.770 -84.458 -84.145 -83.833 -83.521 -83.209 -82.897 -82.584 -82.272 -81.960 -81.648 -81.336 -81.023 -80.711 -80.399 -80.087 -79.774 -79.462 -79.150 -78.838 -78.525 -78.213 -77.901 -77.589 -77.277 -76.964 -76.652 -76.340 -76.028 -75.715 -75.403 -75.091 -74.779 -74.467 -74.154 -73.842 -73.530 -73.218 -72.905 -72.593 -72.281 -71.969 -71.656 -71.344 -71.032 -70.720 -70.408 -70.095 -69.783 -69.471 -69.159 -68.846 -68.534 -68.222 -67.910 -67.598 -67.285 -66.973 -66.661 -66.349 -66.036 -65.724 -65.412 -65.100 -64.787 -64.475 -64.163 -63.851 -63.539 -63.226 -62.914 -62.602 -62.290 -61.977 -61.665 -61.353 -61.041 -60.728 -60.416 -60.104 -59.792 -59.480 -59.167 -58.855 -58.543 -58.231 -57.918 -57.606 -57.294 -56.982 -56.670 -56.357 -56.045 -55.733 -55.421 -55.108 -54.796 -54.484 -54.172 -53.859 -53.547 -53.235 -52.923 -52.611 -52.298 -51.986 -51.674 -51.362 -51.049 -50.737 -50.425 -50.113 -49.800 -49.488 -49.176 -48.864 -48.552 -48.239 -47.927 -47.615 -47.303 -46.990 -46.678 -46.366 -46.054 -45.742 -45.429 -45.117 -44.805 -44.493 -44.180 -43.868 -43.556 -43.244 -42.931 -42.619 -42.307 -41.995 -41.683 -41.370 -41.058 -40.746 -40.434 -40.121 -39.809 -39.497 -39.185 -38.872 -38.560 -38.248 -37.936 -37.624 -37.311 -36.999 -36.687 -36.375 -36.062 -35.750 -35.438 -35.126 -34.814 -34.501 -34.189 -33.877 -33.565 -33.252 -32.940 -32.628 -32.316 -32.003 -31.691 -31.379 -31.067 -30.755 -30.442 -30.130 -29.818 -29.506 -29.193 -28.881 -28.569 -28.257 -27.944 -27.632 -27.320 -27.008 -26.696 -26.383 -26.071 -25.759 -25.447 -25.134 -24.822 -24.510 -24.198 -23.886 -23.573 -23.261 -22.949 -22.637 -22.324 -22.012 -21.700 -21.388 -21.075 -20.763 -20.451 -20.139 -19.827 -19.514 -19.202 -18.890 -18.578 -18.265 -17.953 -17.641 -17.329 -17.016 -16.704 -16.392 -16.080 -15.768 -15.455 -15.143 -14.831 -14.519 -14.206 -13.894 -13.582 -13.270 -12.957 -12.645 -12.333 -12.021 -11.709 -11.396 -11.084 -10.772 -10.460 -10.147 -9.835 -9.523 -9.211 -8.899 -8.586 -8.274 -7.962 -7.650 -7.337 -7.025 -6.713 -6.401 -6.088 -5.776 -5.464 -5.152 -4.840 -4.527 -4.215 -3.903 -3.591 -3.278 -2.966 -2.654 -2.342 -2.029 -1.717 -1.405 -1.093 -0.781 -0.468 -0.156 0.156 0.468 0.781 1.093 1.405 1.717 2.029 2.342 2.654 2.966 3.278 3.591 3.903 4.215 4.527 4.840 5.152 5.464 5.776 6.088 6.401 6.713 7.025 7.337 7.650 7.962 8.274 8.586 8.899 9.211 9.523 9.835 10.147 10.460 10.772 11.084 11.396 11.709 12.021 12.333 12.645 12.957 13.270 13.582 13.894 14.206 14.519 14.831 15.143 15.455 15.768 16.080 16.392 16.704 17.016 17.329 17.641 17.953 18.265 18.578 18.890 19.202 19.514 19.827 20.139 20.451 20.763 21.075 21.388 21.700 22.012 22.324 22.637 22.949 23.261 23.573 23.886 24.198 24.510 24.822 25.134 25.447 25.759 26.071 26.383 26.696 27.008 27.320 27.632 27.944 28.257 28.569 28.881 29.193 29.506 29.818 30.130 30.442 30.755 31.067 31.379 31.691 32.003 32.316 32.628 32.940 33.252 33.565 33.877 34.189 34.501 34.814 35.126 35.438 35.750 36.062 36.375 36.687 36.999 37.311 37.624 37.936 38.248 38.560 38.872 39.185 39.497 39.809 40.121 40.434 40.746 41.058 41.370 41.683 41.995 42.307 42.619 42.931 43.244 43.556 43.868 44.180 44.493 44.805 45.117 45.429 45.742 46.054 46.366 46.678 46.990 47.303 47.615 47.927 48.239 48.552 48.864 49.176 49.488 49.800 50.113 50.425 50.737 51.049 51.362 51.674 51.986 52.298 52.611 52.923 53.235 53.547 53.859 54.172 54.484 54.796 55.108 55.421 55.733 56.045 56.357 56.670 56.982 57.294 57.606 57.918 58.231 58.543 58.855 59.167 59.480 59.792 60.104 60.416 60.728 61.041 61.353 61.665 61.977 62.290 62.602 62.914 63.226 63.539 63.851 64.163 64.475 64.787 65.100 65.412 65.724 66.036 66.349 66.661 66.973 67.285 67.598 67.910 68.222 68.534 68.846 69.159 69.471 69.783 70.095 70.408 70.720 71.032 71.344 71.656 71.969 72.281 72.593 72.905 73.218 73.530 73.842 74.154 74.467 74.779 75.091 75.403 75.715 76.028 76.340 76.652 76.964 77.277 77.589 77.901 78.213 78.525 78.838 79.150 79.462 79.774 80.087 80.399 80.711 81.023 81.336 81.648 81.960 82.272 82.584 82.897 83.209 83.521 83.833 84.145 84.458 84.770 85.082 85.394 85.707 86.019 86.331 86.643 86.955 87.268 87.580 87.892 88.204 88.516 88.828 89.140 89.451 89.761
tdef 1148 linear 06Z20apr2023 6hr
zdef 1 linear 1 1
vars 1
PRATEsfc 0,1,0 0,1,7 ** surface Precipitation Rate [kg/m^2/s]
ENDVARS
