dset ^ocnfmon.ic2023042000.202306.grb2
index ^ocnfmon.ic2023042000.202306.grb2.idx
undef 9.999E+20
title ocnfmon.ic2023042000.202306.grb2
* produced by g2ctl v0.1.0
* command line options: ocnfmon.ic2023042000.202306.grb2
* griddef=1:0:(360 x 181):grid_template=0:winds(N/S): lat-lon grid:(360 x 181) units 1e-06 input WE:NS output WE:SN res 48 lat 90.000000 to -90.000000 by 1.000000 lon 0.000000 to 359.000000 by 1.000000 #points=65160:winds(N/S)
dtype grib2
ydef 181 linear -90.000000 1
xdef 360 linear 0.000000 1.000000
tdef 1 linear 00Z20apr2023 1mo
* PROFILE m below sea level
zdef 40 levels 4478 3972 3483 3016 2579 2174 1807 1479 1193 949 747 584 459 366 303 262 238 225 215 205 195 185 175 165 155 145 135 125 115 105 95 85 75 65 55 45 35 25 15 5
vars 27
DBSSocn2p5C 0,235,25 10,4,195,0 ** 0.25C ocean isotherm Geometric Depth Below Sea Surface [m]
DBSSocn5C 0,235,50 10,4,195,0 ** 0.5C ocean isotherm Geometric Depth Below Sea Surface [m]
DBSSocn10C 0,235,100 10,4,195,0 ** 1C ocean isotherm Geometric Depth Below Sea Surface [m]
DBSSocn15C 0,235,150 10,4,195,0 ** 1.5C ocean isotherm Geometric Depth Below Sea Surface [m]
DBSSocn20C 0,235,200 10,4,195,0 ** 2C ocean isotherm Geometric Depth Below Sea Surface [m]
DBSSocn25C 0,235,250 10,4,195,0 ** 2.5C ocean isotherm Geometric Depth Below Sea Surface [m]
DBSSocn28C 0,235,280 10,4,195,0 ** 2.8C ocean isotherm Geometric Depth Below Sea Surface [m]
DBSSocnml 0,237,0 10,4,195,0 ** bottom of ocean mixed layer Geometric Depth Below Sea Surface [m]
DBSSocnil 0,238,0 10,4,195,0 ** bottom of ocean isothermal layer Geometric Depth Below Sea Surface [m]
DZDTdsl 40,160 0,2,9,0 ** (4478 3972 3483 3016 2579.. 45 35 25 15 5) Vertical Velocity (Geometric) [m/s]
EMNPsfc 0,1,0 0,1,211,0 ** surface Evaporation - Precipitation [cm/day]
ICECsfc 0,1,0 10,2,0,0 ** surface Ice Cover [Proportion]
ICETKsfc 0,1,0 10,2,1,0 ** surface Ice Thickness [m]
OHCocn0_30m 0,236,0,30 10,4,197,0 ** 0-300 m ocean layer Ocean Heat Content [J/m^2]
POTdsl 40,160 0,0,2,0 ** (4478 3972 3483 3016 2579.. 45 35 25 15 5) Potential Temperature [K]
SALTYdsl 40,160 10,4,3,0 ** (4478 3972 3483 3016 2579.. 45 35 25 15 5) Salinity [kg/kg]
SNODsfc 0,1,0 0,1,11,0 ** surface Snow Depth [m]
SSHGsfc 0,1,0 10,3,195,0 ** surface Sea Surface Height Relative to Geoid [m]
TCHPsfc_26C 0,239,4 0,0,204,0 ** layer ocean surface and 26C ocean isothermal level Tropical Cyclone Heat Potential [J/m^2*K]
THFLXsfc 0,1,0 0,0,197,0 ** surface Total Downward Heat Flux at Surface [W/m^2]
TMPsfc 0,1,0 0,0,0,0 ** surface Temperature [K]
UFLXsfc 0,1,0 0,2,17,0 ** surface Momentum Flux, U-Component [N/m^2]
UICEsfc 0,1,0 10,2,4,0 ** surface U-Component of Ice Drift [m/s]
UOGRDdsl 40,160 10,1,2,0 ** (4478 3972 3483 3016 2579.. 45 35 25 15 5) U-Component of Current [m/s]
VFLXsfc 0,1,0 0,2,18,0 ** surface Momentum Flux, V-Component [N/m^2]
VICEsfc 0,1,0 10,2,5,0 ** surface V-Component of Ice Drift [m/s]
VOGRDdsl 40,160 10,1,3,0 ** (4478 3972 3483 3016 2579.. 45 35 25 15 5) V-Component of Current [m/s]
ENDVARS
