dset 29day_202112/slp.nh.20211201.29day.gr
undef -9.99E+08
title cfsr slp
xdef 144 linear 0.0 2.5
ydef 36 linear 2.5 2.5
tdef 116 linear 12z01dec2021 6hr
zdef 1 linear 100000 20000
vars 1
slp 1 99 slp (pa)
ENDVARS
