DSET ^cmorph.spi.12.mo.bin
*
UNDEF -9999.
*
TITLE SPI at 12-mo time scale
*
xdef 720 linear -179.7500000 0.5000000
*
ydef 240 linear -59.750000 0.5000000
*
ZDEF 1 LINEAR 1 1
*
TDEF 1 LINEAR Apr2024 1mo
*
VARS 1
p 1 00 spi
ENDVARS
