DSET ^cmorph.spei.12.mo.bin
*
UNDEF -999.
*
TITLE SPI at 12-mo time scale
*
XDEF 720 LINEAR 0.25 0.5
*
YDEF 240 LINEAR -59.75 0.5
*
ZDEF 1 LINEAR 1 1
*
TDEF 1 LINEAR Apr2024 1mo
*
VARS 1
p 1 00 spei
ENDVARS
