DSET ^us_tmean_1979-2005_2x2.daily
OPTIONS little_endian
UNDEF -9999.0
*
TITLE 2x2 Daily Tmean
*
XDEF 36 LINEAR -130 2
*
YDEF 19 LINEAR 20 2
*
ZDEF 1 LEVELS 1 1
*
TDEF 9862 LINEAR 1jan1979 1dy
*
VARS 1
t 1 00 daily Tmean
ENDVARS
