DSET spp_cmorph_comb_1ic-0proj.dat
*
UNDEF -999.9
*
OPTIONS big_endian
*
TITLE Africa Daily Precip
*
XDEF 751 LINEAR -20.0 0.1
*
YDEF 801 LINEAR -40.0 0.1
*
ZDEF 1 LEVELS 1
*
TDEF 1 LINEAR 01Jan2013 1dy
*
VARS 3
p1 0 99 ch08 merged analysis
p2 0 99 ch08 merged analysis
p3 0 99 ch08 merged analysis
ENDVARS
